BEGIN:VCALENDAR
VERSION:2.0
PRODID:-//Hope on the Hard Road - ECPv6.15.20//NONSGML v1.0//EN
CALSCALE:GREGORIAN
METHOD:PUBLISH
X-WR-CALNAME:Hope on the Hard Road
X-ORIGINAL-URL:https://hopeonthehardroad.org
X-WR-CALDESC:Events for Hope on the Hard Road
REFRESH-INTERVAL;VALUE=DURATION:PT1H
X-Robots-Tag:noindex
X-PUBLISHED-TTL:PT1H
BEGIN:VTIMEZONE
TZID:America/Los_Angeles
BEGIN:DAYLIGHT
TZOFFSETFROM:-0800
TZOFFSETTO:-0700
TZNAME:PDT
DTSTART:20250309T100000
END:DAYLIGHT
BEGIN:STANDARD
TZOFFSETFROM:-0700
TZOFFSETTO:-0800
TZNAME:PST
DTSTART:20251102T090000
END:STANDARD
BEGIN:DAYLIGHT
TZOFFSETFROM:-0800
TZOFFSETTO:-0700
TZNAME:PDT
DTSTART:20260308T100000
END:DAYLIGHT
BEGIN:STANDARD
TZOFFSETFROM:-0700
TZOFFSETTO:-0800
TZNAME:PST
DTSTART:20261101T090000
END:STANDARD
BEGIN:DAYLIGHT
TZOFFSETFROM:-0800
TZOFFSETTO:-0700
TZNAME:PDT
DTSTART:20270314T100000
END:DAYLIGHT
BEGIN:STANDARD
TZOFFSETFROM:-0700
TZOFFSETTO:-0800
TZNAME:PST
DTSTART:20271107T090000
END:STANDARD
END:VTIMEZONE
BEGIN:VEVENT
DTSTART;VALUE=DATE:20260401
DTEND;VALUE=DATE:20260501
DTSTAMP:20260423T042806
CREATED:20240229T184623Z
LAST-MODIFIED:20260326T224419Z
UID:7036-1775001600-1777593599@hopeonthehardroad.org
SUMMARY:Hope Community Groups
DESCRIPTION:Join us for Hope Community Groups. Groups meet monthly to connect in community and share topics relevant to special needs families\, with a biblical perspective. Click here for more info and resources: info
URL:https://hopeonthehardroad.org/event/hope-community-group/
LOCATION:Zoom
CATEGORIES:Community,Dads,Family,Marriage,Moms
ATTACH;FMTTYPE=image/jpeg:https://hopeonthehardroad.org/wp-content/uploads/2024/08/HCGButton2024.jpg
END:VEVENT
BEGIN:VEVENT
DTSTART;VALUE=DATE:20260401
DTEND;VALUE=DATE:20260501
DTSTAMP:20260423T042806
CREATED:20221209T174543Z
LAST-MODIFIED:20260326T224504Z
UID:5275-1775001600-1777593599@hopeonthehardroad.org
SUMMARY:Moms Meet Up
DESCRIPTION:Moms join us on the 1st Wednesday of the month at 9:30 – 11:00 am for connection and encouragement with other moms. For Mom’s monthly meet up we’ll be meeting at some fun local spots for coffee\, breakfast\, local walks\, and more. Be watching for more info on our social media and sign up for our email updates.
URL:https://hopeonthehardroad.org/event/moms-monthly-meet-up/
LOCATION:CA
CATEGORIES:Community,Family,Marriage,Moms
ATTACH;FMTTYPE=image/jpeg:https://hopeonthehardroad.org/wp-content/uploads/2023/10/MomsGenericNewOct23.jpg
END:VEVENT
BEGIN:VEVENT
DTSTART;TZID=America/Los_Angeles:20260501T160000
DTEND;TZID=America/Los_Angeles:20260503T113000
DTSTAMP:20260423T042806
CREATED:20251227T001659Z
LAST-MODIFIED:20260420T183543Z
UID:9231-1777651200-1777807800@hopeonthehardroad.org
SUMMARY:Moms Day Out Conference 2026
DESCRIPTION:Don’t miss Moms Day Out 2026 in beautiful San Diego\, California. This life-giving conference is uniquely designed for moms of children with special needs and the circle of women supporting them. It is your invitation to step away from the demands of caregiving\, breathe deeply\, and be reminded that you are not alone. Register  Volunteer \nSet along the breathtaking San Diego Bay at Liberty Station\, you’ll enjoy peaceful waterfront views\, space to Breathe\, and a community of women who truly understand your journey. \nThis is more than a conference. It’s a reset for body\, mind\, and spirit. \nHere is a glimpse of what’s waiting for you: \n\nInspirational Internationally known keynote speaker Misty Coy Snyder\nEnergetic and Informative breakout sessions and Resource Fair\nLuxurious amenities & delicious meals\nUnhurried time for connection\, rest\, and renewal\nFun-filled experiences including a dance party reception\, fireside chats\, and other optional activities like kayaking and paddle boarding on the harbor\nAnd yes… an amazing swag bag you’ll love!\n\nSo bring your circle of friends\, your bestie\, a sister\, or another mom walking this road with you\, and come experience everything Moms Day Out 2026 has to offer! \nRegister now and take a moment to Breathe with us!! Register  Volunteer \n*1 Day tickets are available as well as full weekend conference tickets* \nWhen: Friday evening May 1st to Sunday morning May 3rd \nWhere: Courtyard Marriott – Liberty Station\n2592 Laning Rd\nSan Diego\, CA 92106 \nSpeakers: Please Click here to check out our speakers! \nRooms: **Final Day to Register for Rooms with our Discount Group Rate is 4/1/26** \nPlease Note: hotel rooms are NOT included with the price of conference registration. Here is a link to directly book and pay for your (1King or 2 Queen) room using our Discount Group Rate ($219 +taxes). Click here for extra hotel info. Note: overnight parking fee applies. \nSuggested Packing List: \nLight jacket or sweatshirt\nHat\nWalking shoes\nSwimsuit and towel (opt)\nToiletries (opt)\nWalking shoes (opt) \nAmenities and Activities: \nBoth a 1 Day or Full Weekend ticket will entitle you to pool access – so pack a swim suit and grab your key at the front desk! \nIn addition we have coordinated with West Coast Paddle Board for a group discount of 20% off a paddle board or kayak (including tandum kayaks). Simply click on the link sandiegosuprentals.com and enter code: Hope20 \nMeals: \nA buffet continental breakfast will be provided on Saturday and Sunday morning for Full Weekend attendees. Lunch on Saturday will be provided for both Full Weekend and 1 Day attendees. Dinner arrangements for Friday are offsite and optional using self pay. Please check out the many wonderful local options. Saturday evening we will be hosting a group dinner on site. \nPlease Note: The Courtyard Marriott will try to accommodate\, however not all requests may be possible. Neither the Courtyard Marriott nor Hope on the Hard Road\, Inc assumes liability in cases of dietary restrictions or allergens. It is recommended that attendees make any necessary requests directly to hotel staff in advance. \nAgenda \nFriday Night \n4:00-5:00 Check In (Entry Hall to Ballroom A/B) and VIP Reception (Ballroom C) \n5:00-5:15 Welcome Session (Ballroom A/B) \n5:15-5:30 MC Intro \n5:30-6:30 Key Note Speaker #1 session \n6:45- 7:45 Dinner (off site) \n8:00-10:00 Dance party & Opportunity Drawing! (Ballroom C) \nSaturday \n7:00-7:45 Early Morning Activities (opt) (TBA) \n7:45-8:30 Weekend Attendee Breakfast (Entry Hall to Ballroom) \n8:00-8:30 Saturday Registrants Check In (Check in table) \n8:30-8:45 Welcome Session (Ballroom A/B) \n8:45-9:00 “A Moment to Breathe” \n9:00-9:15 MC Intro \n9:15-10:00 Key Note Speaker Session #2 (Ballroom A/B) \n8:00-1:00 Resource Fair (Entry Hall to Ballroom) \n10:30-11:15 Breakout Session Group 1: (Ballroom A\, B\, C) \n11:15-11:45 Break/ Resource Fair (Entry Hall to Ballroom) \n11:45-12:30 Breakout Session Group 2: (Ballroom A\, B\, C) \n12:45-1:45 Lunch (Waterfront Terrace) \n2:00-3:00 Free Time Group Activities (group painting\, group mindfulness session\, etc..) \n2:00-5:00 Free Time: (opt: paint\, kayak/paddle board\, pool\, shop\, rest & relaxation\, etc.) \n5:00-6:00 Group Dinner (Ballroom A/B) \n6:15-6:30 Live One Woman Show “Not The Right Mom” with Megan Dolan (Ballroom A/B)\nnottherightmom.com \n6:30-7:30 Moms Panel Discussion Q&A (Ballroom A/B) \n8:00-9:00 Dessert /Fire Pit (by the pool) \nSunday \n8:00-9:00 Breakfast (Entry Hall to Ballroom) \n9:00-9:15 Intro \n9:15-10:00 Speaker Session #3 (Ballroom A/B) \n10:00-10:30 Free Share (Ballroom A/B) \n10:30-11:00 Survey \n11:00-11:30 Wrap Up \n11:30-12:00 Check Out and Departure \n**Schedule is subject to change. Be watching for updates. ** \nThank You to Our Sponsors \n    \n  \n    \n \n  \n 
URL:https://hopeonthehardroad.org/event/moms-day-out-conference-2026/
LOCATION:Courtyard Marriott\, 2592 Laning Rd San Diego\, CA\, San Diego\, CA\, 92106\, United States
CATEGORIES:Community,Moms
ATTACH;FMTTYPE=image/png:https://hopeonthehardroad.org/wp-content/uploads/2025/12/DNO-DEC-2025-1.png
END:VEVENT
END:VCALENDAR