BEGIN:VCALENDAR
VERSION:2.0
PRODID:-//Hope on the Hard Road - ECPv6.15.20//NONSGML v1.0//EN
CALSCALE:GREGORIAN
METHOD:PUBLISH
X-ORIGINAL-URL:https://hopeonthehardroad.org
X-WR-CALDESC:Events for Hope on the Hard Road
REFRESH-INTERVAL;VALUE=DURATION:PT1H
X-Robots-Tag:noindex
X-PUBLISHED-TTL:PT1H
BEGIN:VTIMEZONE
TZID:America/Los_Angeles
BEGIN:DAYLIGHT
TZOFFSETFROM:-0800
TZOFFSETTO:-0700
TZNAME:PDT
DTSTART:20250309T100000
END:DAYLIGHT
BEGIN:STANDARD
TZOFFSETFROM:-0700
TZOFFSETTO:-0800
TZNAME:PST
DTSTART:20251102T090000
END:STANDARD
BEGIN:DAYLIGHT
TZOFFSETFROM:-0800
TZOFFSETTO:-0700
TZNAME:PDT
DTSTART:20260308T100000
END:DAYLIGHT
BEGIN:STANDARD
TZOFFSETFROM:-0700
TZOFFSETTO:-0800
TZNAME:PST
DTSTART:20261101T090000
END:STANDARD
BEGIN:DAYLIGHT
TZOFFSETFROM:-0800
TZOFFSETTO:-0700
TZNAME:PDT
DTSTART:20270314T100000
END:DAYLIGHT
BEGIN:STANDARD
TZOFFSETFROM:-0700
TZOFFSETTO:-0800
TZNAME:PST
DTSTART:20271107T090000
END:STANDARD
END:VTIMEZONE
BEGIN:VEVENT
DTSTART;TZID=America/Los_Angeles:20260220T173000
DTEND;TZID=America/Los_Angeles:20260220T203000
DTSTAMP:20260424T201412
CREATED:20251226T222217Z
LAST-MODIFIED:20260218T014447Z
UID:9181-1771608600-1771619400@hopeonthehardroad.org
SUMMARY:Hope on Hard Road Date Night 2026
DESCRIPTION:Join us for Date Night on Friday February 20th 5:30-8:30pm at Forgotten Barrel Winery. As caregiving parents it can be difficult for a Dad and Mom to find quality time together. That’s why we love to host our Date Nights! Come and enjoy a night of fun with us and reconnect as a couple. Register now and bring your friends for an evening filled with incredible food\, games\, dancing and much more. Looking to Volunteer sign up here. \n✨ Date Night – Final Details ✨ \nWe are SO excited you’re joining us for Date Night! \nGet ready for an evening designed just for you — a chance to step away from the busy\, breathe a little deeper\, laugh a little louder\, and reconnect with the one who’s been walking this road beside you. \nThis night is all about fun\, refreshment\, and celebrating as a couple. We can’t wait to spoil you a little and create a space where you can relax\, recharge\, and simply enjoy the fun together. \nLet the countdown begin! 🥂✨ \nWhen: Fri\, Feb 20th 5:30-8:30 pm \nWhere: Forgotten Barrel Winery\n1120 W 15th Ave\nEscondido\, CA 92025 \nWhat to Wear: Please bring a sweater or jacket. While the event will be indoors\, the barrel room can feel a bit cooler at times. \nSchedule: \n5:30-6:00     Welcome Social \n6:00-6:30     Games & Prizes \n6:30-7:30     Dinner & Dessert \n7:30-8:30     Dancing
URL:https://hopeonthehardroad.org/event/date-night-2/
LOCATION:CA
CATEGORIES:Community,Dads,Family,Marriage,Moms
ATTACH;FMTTYPE=image/png:https://hopeonthehardroad.org/wp-content/uploads/2025/12/DNO-DEC-2025.png
END:VEVENT
END:VCALENDAR