BEGIN:VCALENDAR
VERSION:2.0
PRODID:-//Hope on the Hard Road - ECPv6.15.20//NONSGML v1.0//EN
CALSCALE:GREGORIAN
METHOD:PUBLISH
X-WR-CALNAME:Hope on the Hard Road
X-ORIGINAL-URL:https://hopeonthehardroad.org
X-WR-CALDESC:Events for Hope on the Hard Road
REFRESH-INTERVAL;VALUE=DURATION:PT1H
X-Robots-Tag:noindex
X-PUBLISHED-TTL:PT1H
BEGIN:VTIMEZONE
TZID:America/Los_Angeles
BEGIN:DAYLIGHT
TZOFFSETFROM:-0800
TZOFFSETTO:-0700
TZNAME:PDT
DTSTART:20250309T100000
END:DAYLIGHT
BEGIN:STANDARD
TZOFFSETFROM:-0700
TZOFFSETTO:-0800
TZNAME:PST
DTSTART:20251102T090000
END:STANDARD
BEGIN:DAYLIGHT
TZOFFSETFROM:-0800
TZOFFSETTO:-0700
TZNAME:PDT
DTSTART:20260308T100000
END:DAYLIGHT
BEGIN:STANDARD
TZOFFSETFROM:-0700
TZOFFSETTO:-0800
TZNAME:PST
DTSTART:20261101T090000
END:STANDARD
BEGIN:DAYLIGHT
TZOFFSETFROM:-0800
TZOFFSETTO:-0700
TZNAME:PDT
DTSTART:20270314T100000
END:DAYLIGHT
BEGIN:STANDARD
TZOFFSETFROM:-0700
TZOFFSETTO:-0800
TZNAME:PST
DTSTART:20271107T090000
END:STANDARD
END:VTIMEZONE
BEGIN:VEVENT
DTSTART;TZID=America/Los_Angeles:20260314T100000
DTEND;TZID=America/Los_Angeles:20260314T100000
DTSTAMP:20260424T185524
CREATED:20251226T220002Z
LAST-MODIFIED:20260128T222709Z
UID:9171-1773482400-1773482400@hopeonthehardroad.org
SUMMARY:Spring Fam Festival
DESCRIPTION:Join us for Spring Fam Fest on Sat\, March 14th at 10am-2pm! There will be lots of fun inclusive and accessible games and activities like easter egg hunts\, photo opportunities\, yummy foods\, and more inspiring booth venders as well as some surprise community partners all located at the red Williams Barn in Walnut Grove Park in San Marcos. \nRegister Volunteer
URL:https://hopeonthehardroad.org/event/spring-fam-festival/
LOCATION:Williams Barn\, 1952 Sycamore Dr 92069\, San Marcos\, CA\, 92069\, United States
CATEGORIES:Community,Dads,Family,Moms
ATTACH;FMTTYPE=image/png:https://hopeonthehardroad.org/wp-content/uploads/2025/12/SpringFamFestSquareNEW2026.png
END:VEVENT
END:VCALENDAR