BEGIN:VCALENDAR
VERSION:2.0
PRODID:-//Hope on the Hard Road - ECPv6.15.20//NONSGML v1.0//EN
CALSCALE:GREGORIAN
METHOD:PUBLISH
X-ORIGINAL-URL:https://hopeonthehardroad.org
X-WR-CALDESC:Events for Hope on the Hard Road
REFRESH-INTERVAL;VALUE=DURATION:PT1H
X-Robots-Tag:noindex
X-PUBLISHED-TTL:PT1H
BEGIN:VTIMEZONE
TZID:America/Los_Angeles
BEGIN:DAYLIGHT
TZOFFSETFROM:-0800
TZOFFSETTO:-0700
TZNAME:PDT
DTSTART:20240310T100000
END:DAYLIGHT
BEGIN:STANDARD
TZOFFSETFROM:-0700
TZOFFSETTO:-0800
TZNAME:PST
DTSTART:20241103T090000
END:STANDARD
BEGIN:DAYLIGHT
TZOFFSETFROM:-0800
TZOFFSETTO:-0700
TZNAME:PDT
DTSTART:20250309T100000
END:DAYLIGHT
BEGIN:STANDARD
TZOFFSETFROM:-0700
TZOFFSETTO:-0800
TZNAME:PST
DTSTART:20251102T090000
END:STANDARD
BEGIN:DAYLIGHT
TZOFFSETFROM:-0800
TZOFFSETTO:-0700
TZNAME:PDT
DTSTART:20260308T100000
END:DAYLIGHT
BEGIN:STANDARD
TZOFFSETFROM:-0700
TZOFFSETTO:-0800
TZNAME:PST
DTSTART:20261101T090000
END:STANDARD
BEGIN:DAYLIGHT
TZOFFSETFROM:-0800
TZOFFSETTO:-0700
TZNAME:PDT
DTSTART:20270314T100000
END:DAYLIGHT
BEGIN:STANDARD
TZOFFSETFROM:-0700
TZOFFSETTO:-0800
TZNAME:PST
DTSTART:20271107T090000
END:STANDARD
END:VTIMEZONE
BEGIN:VEVENT
DTSTART;TZID=America/Los_Angeles:20260413T193000
DTEND;TZID=America/Los_Angeles:20260413T203000
DTSTAMP:20260424T165858
CREATED:20221113T065836Z
LAST-MODIFIED:20260326T224237Z
UID:5277-1776108600-1776112200@hopeonthehardroad.org
SUMMARY:Parent Support Group
DESCRIPTION:Join us for our monthly Parent Support Group. We meet on the 2nd Monday of the month via Zoom at 7:30 – 8:30 pm to discuss various topics of interest and to connect with other parents. Sign up
URL:https://hopeonthehardroad.org/event/parent-support-group/
LOCATION:Zoom
CATEGORIES:Community,Dads,Family,Marriage,Moms
ATTACH;FMTTYPE=image/jpeg:https://hopeonthehardroad.org/wp-content/uploads/2024/11/PSGsquare.jpg
END:VEVENT
BEGIN:VEVENT
DTSTART;TZID=America/Los_Angeles:20260402T063000
DTEND;TZID=America/Los_Angeles:20260402T073000
DTSTAMP:20260424T165858
CREATED:20221205T230956Z
LAST-MODIFIED:20260326T224318Z
UID:4212-1775111400-1775115000@hopeonthehardroad.org
SUMMARY:Dads Meet Up
DESCRIPTION:Are you a dad of a special needs child? Join us for our Dads Monthly meet up on the 1st Thursday of the month at 6:30-7:30 am for some good grub and conversation with the guys. Be watching for more info on our social media and sign up for email updates.
URL:https://hopeonthehardroad.org/event/dads-monthly-meet-up-event/
LOCATION:Farmer Boys\, 925 W Mission Ave Escondido\, CA 92025 United States\, Esondido\, 92025
CATEGORIES:Community,Dads,Family,Marriage
ATTACH;FMTTYPE=image/jpeg:https://hopeonthehardroad.org/wp-content/uploads/2023/10/DadsGenericNewOct23.jpg
ORGANIZER;CN="Eric Freund":MAILTO:eric@hopeonthehardroad.org
END:VEVENT
BEGIN:VEVENT
DTSTART;TZID=America/Los_Angeles:20260220T173000
DTEND;TZID=America/Los_Angeles:20260220T203000
DTSTAMP:20260424T165858
CREATED:20251226T222217Z
LAST-MODIFIED:20260218T014447Z
UID:9181-1771608600-1771619400@hopeonthehardroad.org
SUMMARY:Hope on Hard Road Date Night 2026
DESCRIPTION:Join us for Date Night on Friday February 20th 5:30-8:30pm at Forgotten Barrel Winery. As caregiving parents it can be difficult for a Dad and Mom to find quality time together. That’s why we love to host our Date Nights! Come and enjoy a night of fun with us and reconnect as a couple. Register now and bring your friends for an evening filled with incredible food\, games\, dancing and much more. Looking to Volunteer sign up here. \n✨ Date Night – Final Details ✨ \nWe are SO excited you’re joining us for Date Night! \nGet ready for an evening designed just for you — a chance to step away from the busy\, breathe a little deeper\, laugh a little louder\, and reconnect with the one who’s been walking this road beside you. \nThis night is all about fun\, refreshment\, and celebrating as a couple. We can’t wait to spoil you a little and create a space where you can relax\, recharge\, and simply enjoy the fun together. \nLet the countdown begin! 🥂✨ \nWhen: Fri\, Feb 20th 5:30-8:30 pm \nWhere: Forgotten Barrel Winery\n1120 W 15th Ave\nEscondido\, CA 92025 \nWhat to Wear: Please bring a sweater or jacket. While the event will be indoors\, the barrel room can feel a bit cooler at times. \nSchedule: \n5:30-6:00     Welcome Social \n6:00-6:30     Games & Prizes \n6:30-7:30     Dinner & Dessert \n7:30-8:30     Dancing
URL:https://hopeonthehardroad.org/event/date-night-2/
CATEGORIES:Community,Dads,Family,Marriage,Moms
ATTACH;FMTTYPE=image/png:https://hopeonthehardroad.org/wp-content/uploads/2025/12/DNO-DEC-2025.png
END:VEVENT
BEGIN:VEVENT
DTSTART;TZID=America/Los_Angeles:20251205T170000
DTEND;TZID=America/Los_Angeles:20251205T200000
DTSTAMP:20260424T165858
CREATED:20230510T221146Z
LAST-MODIFIED:20251201T194050Z
UID:6225-1764954000-1764964800@hopeonthehardroad.org
SUMMARY:Dads Night Out
DESCRIPTION:Dads Night Out \nHey Dads\, we’re excited you’re joining us for Dads Night Out on Friday\, Dec 5th at 5:00-8:00pm. We’ll meet up at Invasion Lazer Tag and then head over to Cocina del Charro San Marcos for dinner. \nWhen: Fri\, Dec 5th 5:00-8:00 pm \nWhere: Invasion Laser Tag\n1290 W San Marco Blvd #101\nSan Marcos\, CA 92078 \nCocina del Charro – San Marcos\n1020 W San Marcos Blvd #50\nSan Marcos\, CA 92078 \nHealth and Safety: \nWe are looking forward to providing a fun and safe time together. If you are ill or have a fever\, please stay home and rest. By signing up for a Hope on the Hard Road\, Inc event you waive any liability on our nonprofit or our partners. \nPromotional pictures and video may be taken at events. By signing up for this event you agree to give permission for Hope on the Hard Road\, Inc. to use your images in promotional materials. If you would like to opt out of having your image used\, please email us at info@hopeonthehardroad.org.
URL:https://hopeonthehardroad.org/event/dads-night-out/
CATEGORIES:Community,Dads,Family,Marriage
END:VEVENT
BEGIN:VEVENT
DTSTART;VALUE=DATE:20250927
DTEND;VALUE=DATE:20250928
DTSTAMP:20260424T165858
CREATED:20230726T162224Z
LAST-MODIFIED:20250924T184204Z
UID:6452-1758931200-1759017599@hopeonthehardroad.org
SUMMARY:Hope Gala
DESCRIPTION:Hope Gala \nWe’re excited you will be joining us for the 2025 Hope Gala\, an exclusive evening uniting purpose with elegance on Saturday\, September 27 at 5:00 pm at the beautiful Vintana in Escondido. \nWhen: Sat\, Sep 27 at 5:00 pm \nWhere: Vintana\n1205 Auto Park Way\nEscondido\, CA 92029\n(above the Lexus Dealership) \nTheme: Hope Under the Western Sky \nWhat to wear: Cocktail attire. Hats and boots are welcome! \nCheck in will be at 5:00 pm on the patio of the Crystal Ridge Room (After parking on the upper level\, take the elevator down to the 2nd floor – signs will be posted). Restrooms are just off the elevator in the hallway. Upon check in you will be given your table place card along with a complimentary drink ticket. Please simply place your card at the corresponding table # and enjoy the cocktail hour. \nThere will be an indoor space with air conditioning and an outdoor patio bar\, so bring a sweater if you think you might need one. \nThank You to our Hope Gala Sponsors \n    \nJoel Anderson\, Daniel Toranzo\, Brian Lehmer and J Brad Britton
URL:https://hopeonthehardroad.org/event/hope-gala/
LOCATION:Vintana\, 1205 Auto Park Way\, Escondido\, CA\, 92029\, United States
CATEGORIES:Community,Dads,Family,Marriage,Moms
END:VEVENT
END:VCALENDAR