BEGIN:VCALENDAR
VERSION:2.0
PRODID:-//Hope on the Hard Road - ECPv6.15.20//NONSGML v1.0//EN
CALSCALE:GREGORIAN
METHOD:PUBLISH
X-WR-CALNAME:Hope on the Hard Road
X-ORIGINAL-URL:https://hopeonthehardroad.org
X-WR-CALDESC:Events for Hope on the Hard Road
REFRESH-INTERVAL;VALUE=DURATION:PT1H
X-Robots-Tag:noindex
X-PUBLISHED-TTL:PT1H
BEGIN:VTIMEZONE
TZID:America/Los_Angeles
BEGIN:DAYLIGHT
TZOFFSETFROM:-0800
TZOFFSETTO:-0700
TZNAME:PDT
DTSTART:20220313T100000
END:DAYLIGHT
BEGIN:STANDARD
TZOFFSETFROM:-0700
TZOFFSETTO:-0800
TZNAME:PST
DTSTART:20221106T090000
END:STANDARD
BEGIN:DAYLIGHT
TZOFFSETFROM:-0800
TZOFFSETTO:-0700
TZNAME:PDT
DTSTART:20230312T100000
END:DAYLIGHT
BEGIN:STANDARD
TZOFFSETFROM:-0700
TZOFFSETTO:-0800
TZNAME:PST
DTSTART:20231105T090000
END:STANDARD
BEGIN:DAYLIGHT
TZOFFSETFROM:-0800
TZOFFSETTO:-0700
TZNAME:PDT
DTSTART:20240310T100000
END:DAYLIGHT
BEGIN:STANDARD
TZOFFSETFROM:-0700
TZOFFSETTO:-0800
TZNAME:PST
DTSTART:20241103T090000
END:STANDARD
BEGIN:DAYLIGHT
TZOFFSETFROM:-0800
TZOFFSETTO:-0700
TZNAME:PDT
DTSTART:20250309T100000
END:DAYLIGHT
BEGIN:STANDARD
TZOFFSETFROM:-0700
TZOFFSETTO:-0800
TZNAME:PST
DTSTART:20251102T090000
END:STANDARD
BEGIN:DAYLIGHT
TZOFFSETFROM:-0800
TZOFFSETTO:-0700
TZNAME:PDT
DTSTART:20260308T100000
END:DAYLIGHT
BEGIN:STANDARD
TZOFFSETFROM:-0700
TZOFFSETTO:-0800
TZNAME:PST
DTSTART:20261101T090000
END:STANDARD
BEGIN:DAYLIGHT
TZOFFSETFROM:-0800
TZOFFSETTO:-0700
TZNAME:PDT
DTSTART:20270314T100000
END:DAYLIGHT
BEGIN:STANDARD
TZOFFSETFROM:-0700
TZOFFSETTO:-0800
TZNAME:PST
DTSTART:20271107T090000
END:STANDARD
END:VTIMEZONE
BEGIN:VEVENT
DTSTART;TZID=America/Los_Angeles:20260314T100000
DTEND;TZID=America/Los_Angeles:20260314T100000
DTSTAMP:20260425T050714
CREATED:20251226T220002Z
LAST-MODIFIED:20260128T222709Z
UID:9171-1773482400-1773482400@hopeonthehardroad.org
SUMMARY:Spring Fam Festival
DESCRIPTION:Join us for Spring Fam Fest on Sat\, March 14th at 10am-2pm! There will be lots of fun inclusive and accessible games and activities like easter egg hunts\, photo opportunities\, yummy foods\, and more inspiring booth venders as well as some surprise community partners all located at the red Williams Barn in Walnut Grove Park in San Marcos. \nRegister Volunteer
URL:https://hopeonthehardroad.org/event/spring-fam-festival/
LOCATION:Williams Barn\, 1952 Sycamore Dr 92069\, San Marcos\, CA\, 92069\, United States
CATEGORIES:Community,Dads,Family,Moms
ATTACH;FMTTYPE=image/png:https://hopeonthehardroad.org/wp-content/uploads/2025/12/SpringFamFestSquareNEW2026.png
END:VEVENT
BEGIN:VEVENT
DTSTART;TZID=America/Los_Angeles:20260220T173000
DTEND;TZID=America/Los_Angeles:20260220T203000
DTSTAMP:20260425T050714
CREATED:20251226T222217Z
LAST-MODIFIED:20260218T014447Z
UID:9181-1771608600-1771619400@hopeonthehardroad.org
SUMMARY:Hope on Hard Road Date Night 2026
DESCRIPTION:Join us for Date Night on Friday February 20th 5:30-8:30pm at Forgotten Barrel Winery. As caregiving parents it can be difficult for a Dad and Mom to find quality time together. That’s why we love to host our Date Nights! Come and enjoy a night of fun with us and reconnect as a couple. Register now and bring your friends for an evening filled with incredible food\, games\, dancing and much more. Looking to Volunteer sign up here. \n✨ Date Night – Final Details ✨ \nWe are SO excited you’re joining us for Date Night! \nGet ready for an evening designed just for you — a chance to step away from the busy\, breathe a little deeper\, laugh a little louder\, and reconnect with the one who’s been walking this road beside you. \nThis night is all about fun\, refreshment\, and celebrating as a couple. We can’t wait to spoil you a little and create a space where you can relax\, recharge\, and simply enjoy the fun together. \nLet the countdown begin! 🥂✨ \nWhen: Fri\, Feb 20th 5:30-8:30 pm \nWhere: Forgotten Barrel Winery\n1120 W 15th Ave\nEscondido\, CA 92025 \nWhat to Wear: Please bring a sweater or jacket. While the event will be indoors\, the barrel room can feel a bit cooler at times. \nSchedule: \n5:30-6:00     Welcome Social \n6:00-6:30     Games & Prizes \n6:30-7:30     Dinner & Dessert \n7:30-8:30     Dancing
URL:https://hopeonthehardroad.org/event/date-night-2/
LOCATION:CA
CATEGORIES:Community,Dads,Family,Marriage,Moms
ATTACH;FMTTYPE=image/png:https://hopeonthehardroad.org/wp-content/uploads/2025/12/DNO-DEC-2025.png
END:VEVENT
BEGIN:VEVENT
DTSTART;TZID=America/Los_Angeles:20251205T170000
DTEND;TZID=America/Los_Angeles:20251205T200000
DTSTAMP:20260425T050714
CREATED:20230510T221146Z
LAST-MODIFIED:20251201T194050Z
UID:6225-1764954000-1764964800@hopeonthehardroad.org
SUMMARY:Dads Night Out
DESCRIPTION:Dads Night Out \nHey Dads\, we’re excited you’re joining us for Dads Night Out on Friday\, Dec 5th at 5:00-8:00pm. We’ll meet up at Invasion Lazer Tag and then head over to Cocina del Charro San Marcos for dinner. \nWhen: Fri\, Dec 5th 5:00-8:00 pm \nWhere: Invasion Laser Tag\n1290 W San Marco Blvd #101\nSan Marcos\, CA 92078 \nCocina del Charro – San Marcos\n1020 W San Marcos Blvd #50\nSan Marcos\, CA 92078 \nHealth and Safety: \nWe are looking forward to providing a fun and safe time together. If you are ill or have a fever\, please stay home and rest. By signing up for a Hope on the Hard Road\, Inc event you waive any liability on our nonprofit or our partners. \nPromotional pictures and video may be taken at events. By signing up for this event you agree to give permission for Hope on the Hard Road\, Inc. to use your images in promotional materials. If you would like to opt out of having your image used\, please email us at info@hopeonthehardroad.org.
URL:https://hopeonthehardroad.org/event/dads-night-out/
LOCATION:CA
CATEGORIES:Community,Dads,Family,Marriage
END:VEVENT
BEGIN:VEVENT
DTSTART;TZID=America/Los_Angeles:20251108T160000
DTEND;TZID=America/Los_Angeles:20251108T190000
DTSTAMP:20260425T050714
CREATED:20231206T051450Z
LAST-MODIFIED:20251027T203515Z
UID:6896-1762617600-1762628400@hopeonthehardroad.org
SUMMARY:Mom's Night Out
DESCRIPTION:Moms Night Out\nWe’re so excited you’ll be joining us for a Moms Night Out “Paint and Plate” on Sat\, Nov 8 from 4-7 pm! We will enjoy a relaxing evening of painting and plating some yummy cuisine not to mention sips at Stone Brewing in Escondido. \nWe will be outside so bring a jacket. \nSee you there! \nWhen: Sat\, Nov 8 from 4:00-7:00 pm \nWhere:\nStone Brewing\n1999 Citracado Pkwy\, Escondido\, CA 92029 \nCost:\nPainting: $15\nDinner: Self Pay \nHealth and Safety: \nWe are looking forward to providing a fun and safe time together. If you are ill or have a fever\, please stay home and rest. By signing up for a Hope on the Hard Road\, Inc event you waive any liability on our nonprofit or our partners. \nPromotional pictures and video may be taken at events. By signing up for this event you agree to give permission for Hope on the Hard Road\, Inc. to use your images in promotional materials. If you would like to opt out of having your image used please email us at info@hopeonthehardroad.org.
URL:https://hopeonthehardroad.org/event/moms-night-out/
LOCATION:Stone Brewing\, 1999 Citracado Pkwy\, Escondido\, CA\, 92029\, United States
CATEGORIES:Community,Moms
END:VEVENT
BEGIN:VEVENT
DTSTART;TZID=America/Los_Angeles:20251018T100000
DTEND;TZID=America/Los_Angeles:20251018T140000
DTSTAMP:20260425T050714
CREATED:20240610T172356Z
LAST-MODIFIED:20251015T220315Z
UID:5291-1760781600-1760796000@hopeonthehardroad.org
SUMMARY:Fall Family Festival
DESCRIPTION:Join us for our Fall Fam Fest on Sat\, Oct 18th 10am-2pm! There will be lots of fun inclusive and accessible fall games and activities\, photo opportunities\, yummy foods\, pumpkins\, and inspiring micro business booths. All located at the red Williams Barn in Walnut Grove Park in San Marcos. RSVP so we know who’s coming! \nWhen: Sat\, Oct 18th 10:00am-2:00pm \nWhere: Williams Barn\n1952 Sycamore Dr \nSan Marcos\, CA 92069 \nTickets: Child Entrance Fee $5 \nVolunteer Info
URL:https://hopeonthehardroad.org/event/fall-family-festival/
LOCATION:Williams Barn\, 1952 Sycamore Dr 92069\, San Marcos\, CA\, 92069\, United States
CATEGORIES:Community,Dads,Family,Moms
END:VEVENT
BEGIN:VEVENT
DTSTART;VALUE=DATE:20250927
DTEND;VALUE=DATE:20250928
DTSTAMP:20260425T050714
CREATED:20230726T162224Z
LAST-MODIFIED:20250924T184204Z
UID:6452-1758931200-1759017599@hopeonthehardroad.org
SUMMARY:Hope Gala
DESCRIPTION:Hope Gala \nWe’re excited you will be joining us for the 2025 Hope Gala\, an exclusive evening uniting purpose with elegance on Saturday\, September 27 at 5:00 pm at the beautiful Vintana in Escondido. \nWhen: Sat\, Sep 27 at 5:00 pm \nWhere: Vintana\n1205 Auto Park Way\nEscondido\, CA 92029\n(above the Lexus Dealership) \nTheme: Hope Under the Western Sky \nWhat to wear: Cocktail attire. Hats and boots are welcome! \nCheck in will be at 5:00 pm on the patio of the Crystal Ridge Room (After parking on the upper level\, take the elevator down to the 2nd floor – signs will be posted). Restrooms are just off the elevator in the hallway. Upon check in you will be given your table place card along with a complimentary drink ticket. Please simply place your card at the corresponding table # and enjoy the cocktail hour. \nThere will be an indoor space with air conditioning and an outdoor patio bar\, so bring a sweater if you think you might need one. \nThank You to our Hope Gala Sponsors \n    \nJoel Anderson\, Daniel Toranzo\, Brian Lehmer and J Brad Britton
URL:https://hopeonthehardroad.org/event/hope-gala/
LOCATION:Vintana\, 1205 Auto Park Way\, Escondido\, CA\, 92029\, United States
CATEGORIES:Community,Dads,Family,Marriage,Moms
END:VEVENT
BEGIN:VEVENT
DTSTART;TZID=America/Los_Angeles:20250809T093000
DTEND;TZID=America/Los_Angeles:20250809T130000
DTSTAMP:20260425T050714
CREATED:20250620T024229Z
LAST-MODIFIED:20250730T165842Z
UID:8482-1754731800-1754744400@hopeonthehardroad.org
SUMMARY:Sibling Saturday
DESCRIPTION:Siblings join us for Surf Saturday! \nWe’re excited to have our siblings join us for a day of surfing this Saturday!\n**This event is solely for siblings. 1-on-1 support will NOT be provided.** \nWhen: Sat Aug 9 from 9:30am to 1:00pm\n9:30-10:00 Check in\n10:30-12 Surf\n12:00-1:00 Lunch \nWhere: San Diego Surf School\n4850 Cass St\nPacific Beach\, CA 92109 \n\n\n**Be sure to fill out this waiver before you arrive!** \nWhat to Wear: All participants will be given a wet suit to wear along with a yellow rash guard so wear a swimsuit for underneath. \nWhat to Bring: towel\, sunscreen\, hat\, change of clothes (all participants will be given an event t-shirt)\, and a water bottle. \nWhat to Know: We will meet at San Diego Surf School and walk to the surf spot located north of crystal pier in Pacific Beach. There is a bluff where parents can sit and watch if desired and a lifeguard tower nearby. Student to staff ratio will be at least 3:1 with staff from San Diego Surf School and Hope on the Hard Road in the water and on the beach at all times. \nPhoto release: Promotional pictures and video may be taken at events. By signing up for this event you agree to give permission for Hope on the Hard Road\, Inc. and San Diego Surf School to use your images in promotional materials. If you would like to opt out of having your image used\, please email us at info@hopeonthehardroad.org. \nHealth and Safety: If you are ill or have a fever\, we ask that you please stay home and get better. By signing up for a Hope on the Hard Road\, Inc event you waive any liability on our nonprofit or our partners.
URL:https://hopeonthehardroad.org/event/sibling-saturday/
LOCATION:San Diego Surf School\, 4850 Cass St\, San Diego\, CA\, 92109\, United States
CATEGORIES:Community,Family
END:VEVENT
BEGIN:VEVENT
DTSTART;TZID=America/Los_Angeles:20250621T110000
DTEND;TZID=America/Los_Angeles:20250621T133000
DTSTAMP:20260425T050714
CREATED:20240927T175324Z
LAST-MODIFIED:20250616T222306Z
UID:7898-1750503600-1750512600@hopeonthehardroad.org
SUMMARY:How to Train Your Dragon Live Action
DESCRIPTION:Join us in kicking off the summer with a fun Sensory Friendly Community event! Hope on the Hard Road\, Inc has partnered with Regal Cinemas to bring our families a Sensory Friendly showing of “How to Train Your Dragon Live Action” at the San Marcos Regal Theater on June 21 at 11:00am. Tap the link below to 1) register with us and 2) tap the link to purchase your tickets. Then enjoy a sensory friendly experience along with lots of fun with our Hope Team including spin to win prizes\, sensory fidgets\, quiet craft activities\, and more! Hope to see you there! \n1 Free Companion Pass is available per family! This ticket cannot be obtained online and can only be issued the day of the show. \nDON’T FORGET TO CLICK ON THE REGAL TICKET LINK TO PURCHASE TICKETS AFTER YOU REGISTER!! \nWhen: June 21 at 11:00am \nWhere: Regal Edwards Theater San Marcos\n1180 W San Marcos Blvd\, San Marcos\, CA 92069 \nFood: $5 Snack Packs Available! \n \nDON’T FORGET TO CLICK ON THE REGAL TICKET LINK TO PURCHASE TICKETS AFTER YOU REGISTER!!
URL:https://hopeonthehardroad.org/event/how-to-train-your-dragon/
LOCATION:Regal Edwards Theater San Marcos\, 1180 W San Marcos Blvd\, San Marcos\, 92069\, United States
CATEGORIES:Community,Family
ATTACH;FMTTYPE=image/jpeg:https://hopeonthehardroad.org/wp-content/uploads/2024/09/HowToTameDragonLive.jpg
END:VEVENT
BEGIN:VEVENT
DTSTART;TZID=America/Los_Angeles:20230918T080000
DTEND;TZID=America/Los_Angeles:20230923T200000
DTSTAMP:20260425T050714
CREATED:20230918T130028Z
LAST-MODIFIED:20230919T040606Z
UID:6554-1695024000-1695499200@hopeonthehardroad.org
SUMMARY:Silent Auction
DESCRIPTION:Silent Auction:\nSee items below and click on the link for more details and to bid on the items\n1. Limited Giclée Print by artist Wyland\n2. Vintana Dinner for Two\n3. Painting by Local Artist Patricia Hunter\n4. HVO Family Move Night\n5. Spa Basket & Experience\n6. Foam Surfboard\n7. Grand Dentistry Teeth Whitening\n8. D’Vine Path Wine Basket\n9. Pumpkin Everything Package\n10. Original Joel Anderson Painting\n11. Home Design/ Styling/Decorating by Jodi Katnik\n12. Cocina del Charro $100 Gift Card
URL:https://hopeonthehardroad.org/event/silent-auction/
LOCATION:CA
ATTACH;FMTTYPE=image/png:https://hopeonthehardroad.org/wp-content/uploads/2023/07/FundraiserGalaHeader.png
END:VEVENT
END:VCALENDAR